BEGIN:VCALENDAR
VERSION:2.0
PRODID:-//Alabama Sports Officials Foundation - ECPv6.15.20//NONSGML v1.0//EN
CALSCALE:GREGORIAN
METHOD:PUBLISH
X-WR-CALNAME:Alabama Sports Officials Foundation
X-ORIGINAL-URL:https://www.alabamasportsofficialsfoundation.com
X-WR-CALDESC:Events for Alabama Sports Officials Foundation
REFRESH-INTERVAL;VALUE=DURATION:PT1H
X-Robots-Tag:noindex
X-PUBLISHED-TTL:PT1H
BEGIN:VTIMEZONE
TZID:America/Chicago
BEGIN:DAYLIGHT
TZOFFSETFROM:-0600
TZOFFSETTO:-0500
TZNAME:CDT
DTSTART:20210314T080000
END:DAYLIGHT
BEGIN:STANDARD
TZOFFSETFROM:-0500
TZOFFSETTO:-0600
TZNAME:CST
DTSTART:20211107T070000
END:STANDARD
BEGIN:DAYLIGHT
TZOFFSETFROM:-0600
TZOFFSETTO:-0500
TZNAME:CDT
DTSTART:20220313T080000
END:DAYLIGHT
BEGIN:STANDARD
TZOFFSETFROM:-0500
TZOFFSETTO:-0600
TZNAME:CST
DTSTART:20221106T070000
END:STANDARD
BEGIN:DAYLIGHT
TZOFFSETFROM:-0600
TZOFFSETTO:-0500
TZNAME:CDT
DTSTART:20230312T080000
END:DAYLIGHT
BEGIN:STANDARD
TZOFFSETFROM:-0500
TZOFFSETTO:-0600
TZNAME:CST
DTSTART:20231105T070000
END:STANDARD
BEGIN:DAYLIGHT
TZOFFSETFROM:-0600
TZOFFSETTO:-0500
TZNAME:CDT
DTSTART:20240310T080000
END:DAYLIGHT
BEGIN:STANDARD
TZOFFSETFROM:-0500
TZOFFSETTO:-0600
TZNAME:CST
DTSTART:20241103T070000
END:STANDARD
BEGIN:DAYLIGHT
TZOFFSETFROM:-0600
TZOFFSETTO:-0500
TZNAME:CDT
DTSTART:20250309T080000
END:DAYLIGHT
BEGIN:STANDARD
TZOFFSETFROM:-0500
TZOFFSETTO:-0600
TZNAME:CST
DTSTART:20251102T070000
END:STANDARD
BEGIN:DAYLIGHT
TZOFFSETFROM:-0600
TZOFFSETTO:-0500
TZNAME:CDT
DTSTART:20260308T080000
END:DAYLIGHT
BEGIN:STANDARD
TZOFFSETFROM:-0500
TZOFFSETTO:-0600
TZNAME:CST
DTSTART:20261101T070000
END:STANDARD
END:VTIMEZONE
BEGIN:VEVENT
DTSTART;TZID=America/Chicago:20250802T180000
DTEND;TZID=America/Chicago:20250802T210000
DTSTAMP:20260423T041029
CREATED:20211230T042711Z
LAST-MODIFIED:20250115T153028Z
UID:1268-1754157600-1754168400@www.alabamasportsofficialsfoundation.com
SUMMARY:Alabama Sports Officials Hall of Fame
DESCRIPTION:Annual Hall of Fame ceremony honoring the top officials from the state of Alabama.\nA reserved table purchase can be made until August 1st.  A reserved table is $500.00 and will include seating for up to 8 people.  This is the only way to guarantee that your entire party will be able to sit at the same table.  To purchase a reserved table please email Mark Jones at mjones@jsu.edu \nTo purchase a ticket to this event\, you can send a check/money order or use Paypal.  PayPal destination is “Alabama Sports Officials Foundation” \nChecks or Money orders can be made payable to Alabama Sports Officials Foundation and mailed to Mark Jones at 204 Burke Avenue NW\, Jacksonville\, AL 36265 \nIndividual Tickets are $50.00 each.
URL:https://www.alabamasportsofficialsfoundation.com/event/alabama-sports-officials-hall-of-fame/
LOCATION:Oxford Civic Center 401 Mc Cullars Ln\, Oxford\, AL 36203\, 401 Mc Cullars Ln\, Oxford\, AL 36203\, Oxford\, AL\, 36203\, United States
CATEGORIES:Hall Of Fame
ATTACH;FMTTYPE=image/jpeg:https://www.alabamasportsofficialsfoundation.com/wp-content/uploads/2021/12/HOFPlaque-min-scaled.jpg
END:VEVENT
BEGIN:VEVENT
DTSTART;VALUE=DATE:20220903
DTEND;VALUE=DATE:20220906
DTSTAMP:20260423T041029
CREATED:20220707T142405Z
LAST-MODIFIED:20220707T142833Z
UID:1792-1662163200-1662422399@www.alabamasportsofficialsfoundation.com
SUMMARY:Pickleball Tournament.  Labor Day Shootout
DESCRIPTION:Pickleball tournament supporting the ASOF. M/W Singles Sept 3\, M/W Doubles Sept. 4\, and Mixed Doubles Sept 5. 3.0 – 5.0 skill levels 18-34\, 34-49\, 50-69 and 70+ Age Groups. 6 indoor tennis courts at the Athletic Club Alabama. Early Registration until August 15. Register at https://www.pickleballtournaments.com
URL:https://www.alabamasportsofficialsfoundation.com/event/pickleball-tournament-labor-day-shootout/
LOCATION:Athletic Club Alabama\, 3250 Leeman Ferry Rd SW\, Huntsville\, AL\, 35801\, United States
CATEGORIES:Fundraiser,Tournament
ATTACH;FMTTYPE=image/png:https://www.alabamasportsofficialsfoundation.com/wp-content/uploads/2022/07/image.png
END:VEVENT
BEGIN:VEVENT
DTSTART;TZID=America/Chicago:20220723T073000
DTEND;TZID=America/Chicago:20220723T153000
DTSTAMP:20260423T041029
CREATED:20220121T025236Z
LAST-MODIFIED:20220317T190633Z
UID:1593-1658561400-1658590200@www.alabamasportsofficialsfoundation.com
SUMMARY:ASOF Disk Golf Tournament
DESCRIPTION:ASOF Scholarship Shootout Presented by Dynamic Discs \n2 rounds of 19 holes at Southside Park DGC in Huntsville\, AL \nAM Divisions only. \nAll proceeds go to Alabama Sports Officials Foundation! \nThe Ultimate Goal of the Foundation is to provide Financial Scholarships to Officials Children from a self-funded environment.\nIt is our financial goal to distribute a minimum of $4500.00 each year in scholarships.\nIt is also our goal to establish and maintain a Hall of Fame for Officials from the state of Alabama. An annual induction ceremony will be held for this purpose. Our first induction ceremony was successfully launched in 2019
URL:https://www.alabamasportsofficialsfoundation.com/event/asof-disk-golf-tournament/
LOCATION:Southside Park\, 15935 Chaney Thompson Road\, Huntsville\, AL\, 35803\, United States
CATEGORIES:Fundraiser,Tournament
ATTACH;FMTTYPE=image/jpeg:https://www.alabamasportsofficialsfoundation.com/wp-content/uploads/2022/01/disc-golf.jpg
ORGANIZER;CN="Lamar Futch":MAILTO:lamar.futch@gmail.com
END:VEVENT
BEGIN:VEVENT
DTSTART;TZID=America/Chicago:20220628T080000
DTEND;TZID=America/Chicago:20220628T170000
DTSTAMP:20260423T041029
CREATED:20220121T025555Z
LAST-MODIFIED:20220315T175242Z
UID:1597-1656403200-1656435600@www.alabamasportsofficialsfoundation.com
SUMMARY:ASOF Huntsville High School 7 on 7 football passing Tournament
DESCRIPTION:High School Football 7 on 7 passing tournament
URL:https://www.alabamasportsofficialsfoundation.com/event/asof-huntsville-high-school-7-on-7-football-passing-tournament/
LOCATION:AL
END:VEVENT
END:VCALENDAR